{"text_format":"2","workbook":"xlsx","n_sheets":5,"sheets":["Celkový","prolog","01_Jeseník-Rýmařov","02-Bruntál-Červenohorské sedlo","03-Jeseník-Jeseník"],"not_rendered":{"charts":0,"images":0,"macros":0,"external_links":0,"defined_names":3,"comments":0,"pivot_tables":0},"unopened":[],"bounds":{"document_bytes":16777216,"sheet_cells":100000,"run_cost":"one","rows_first":2000,"rows_last":500,"rows_between":2000,"halvings":0,"cell_chars":16384,"cell_head_chars":4096},"cells_cut":0,"cells_raw":0,"read":"whole","date_system":"1900"}

{"sheet":"Celkový","index":0,"n_rows":8,"n_cols":8,"rows_kept":8,"cut":false,"hidden":false,"merged":[]}
["Rozpis etap Závodu Míru 2023"]
[]
["Etapa","Datum","Start","Délka (km)","Převýšení (m)","Start-čas","Cíl-místo","Cíl-čas"]
["Prolog","2023-06-08","Jeseník",{"$f":"prolog!E28","v":3.1},25,"17:00:00","Jeseník"]
["1.","2023-06-09","Jeseník",{"$f":"'01_Jeseník-Rýmařov'!E101","v":122.80000000000001},2086,{"$f":"'01_Jeseník-Rýmařov'!G15","v":"13:30:00"},"Rýmařov",{"$f":"'01_Jeseník-Rýmařov'!G101","v":"16:30 - 16:48"}]
["2.","2023-06-10","Bruntál",{"$f":"'02-Bruntál-Červenohorské sedlo'!E84","v":129},2819,{"$f":"'02-Bruntál-Červenohorské sedlo'!G15","v":"12:00:00"},"Červenohorské sedlo",{"$f":"'02-Bruntál-Červenohorské sedlo'!G84","v":"15:07 - 15:26"}]
["3.","2023-06-11","Jeseník",{"$f":"'03-Jeseník-Jeseník'!E85","v":166.1},2721,{"$f":"'03-Jeseník-Jeseník'!G15","v":"11:00:00"},"Jeseník",{"$f":"'03-Jeseník-Jeseník'!G85","v":"145:08 - 15:33"}]
[null,null,"Celkem",{"$f":"SUM(D4:D7)","v":421},{"$f":"SUM(E4:E7)","v":7651}]

{"sheet":"prolog","index":1,"n_rows":28,"n_cols":11,"rows_kept":28,"cut":false,"hidden":false,"merged":[]}
["Časový plán etapy: "]
[]
["Prologue Jeseník, 8.6.2023"]
[]
["čas startu etapy"]
["slavnostní start",null,"17:00:00"]
["ostrý start hh:mm",null,"17:00:00"]
[]
["průměrné rychlosti (km/h)"]
["a",null,42]
["b",null,38]
[]
[null,"poznámka","místo","kilometr + neutral","ostrá etapa","kilometr do cíle","rozsah časů","čas absolutní a","čas absolutní b","čas relativní a","čas relativní b"]
[null,null,"ITINERÁŘ","(km)","(km)","(km)","(hh:mm - hh:mm)","(hh:mm)","(hh:mm)","(hh:mm)","(hh:mm)"]
["START","Slavnostní start","Jeseník, Masarykovo sq.",null,null,null,"17:00:00","17:00:00","17:00:00","00:00:00","00:00:00"]
[null,"rovně","st. Tyršova",0.1,0.1,{"$f":"$E$28-E16","v":3},{"$f":"TEXT(H16,\"h:mm\")&\" - \"&TEXT(I16,\"h:mm\")","v":"17:00 - 17:00"},{"$f":"$C$7+J16","v":"17:00:00"},"17:00:00",{"$f":"TEXT(E16/$C$10/24,\"h:mm\")","v":"0:00"},{"$f":"TEXT(E16/$C$11/24,\"h:mm\")","v":"0:00"}]
[null,"rovně","crossroad",0.2,0.2,2.9,"17:00 - 17:00","17:00:00","17:00:00","0:00","0:00"]
[null,"vlevo","st. Tyršova",0.8,0.8,2.2999999999999998,"17:01 - 17:01","17:01:00","17:01:00","0:01","0:01"]
[null,"vpravo","st. Puškinova",0.9,0.9,2.2000000000000002,"17:01 - 17:01","17:01:00","17:01:00","0:01","0:01"]
[null,"vlevo","st. Lipovská",1,1,2.1,"17:01 - 17:01","17:01:00","17:01:00","0:01","0:01"]
[null,"vlevo","st Jaroslava Ježka",1.2,1.2,1.9000000000000001,"17:01 - 17:01","17:01:00","17:01:00","0:01","0:01"]
[null,"vlevo","st. Denisova",1.6,1.6,1.5,"17:02 - 17:02","17:02:00","17:02:00","0:02","0:02"]
[null,"rovně","st. Dukelská",1.6,1.6,1.5,"17:02 - 17:02","17:02:00","17:02:00","0:02","0:02"]
[null,"rovně","crossroad",2.2000000000000002,2.2000000000000002,0.89999999999999991,"17:03 - 17:03","17:03:00",{"$f":"$C$7+K24","v":"17:03:00"},"0:03","0:03"]
[null,"vlevo","st. Dukelská",2.6,2.6,0.5,"17:03 - 17:04","17:03:00","17:04:00","0:03","0:04"]
[null,"vpravo","st. Gogolova",2.7,2.7,0.39999999999999991,"17:03 - 17:04","17:03:00","17:04:00","0:03","0:04"]
[null,"vpravo","st. Tyršova",2.8,2.8,0.30000000000000027,"17:04 - 17:04","17:04:00","17:04:00","0:04","0:04"]
["FINISH",null,"Masarykovo sq.",3.1,3.1,0,{"$f":"TEXT(H28,\"h:mm\")&\" - \"&TEXT(I28,\"h:mm\")","v":"17:04 - 17:04"},{"$f":"$C$7+J28","v":"17:04:00"},"17:04:00",{"$f":"TEXT(E28/$C$10/24,\"h:mm\")","v":"0:04"},{"$f":"TEXT(E28/$C$11/24,\"h:mm\")","v":"0:04"}]

{"sheet":"01_Jeseník-Rýmařov","index":2,"n_rows":101,"n_cols":12,"rows_kept":101,"cut":false,"hidden":false,"merged":[]}
["Časový plán etapy: "]
[]
["1. etapa Jeseník – Rýmařov, 9.6.2023"]
[]
["čas startu etapy"]
["slavnostní start",null,"13:30:00"]
["ostrý start hh:mm",null,"13:35:00"]
[]
["průměrné rychlosti (km/h)"]
["a",null,42]
["b",null,38]
[]
[null,"poznámka","místo","kilometr + neutral","ostrá etapa","kilometr do cíle","rozsah časů","čas absolutní a","čas absolutní b","čas relativní a","čas relativní b"]
[null,null,"ITINERÁŘ","(km)","(km)","(km)","(hh:mm - hh:mm)","(hh:mm)","(hh:mm)","(hh:mm)","(hh:mm)"]
["START","Slavnostní start","Jeseník, Masarykovo sq.",null,null,null,"13:30:00","13:30:00","13:30:00","00:00:00","00:00:00"]
[null,"vpravo","roundabout",0.3]
[null,"rovně","Šumperská crossroad",2.4]
[null,"OSTRÝ START","after the crossroad",2.6,{"$f":"D18-2.6","v":0},{"$f":"$E$101-E18","v":122.80000000000001},{"$f":"TEXT(H18,\"h:mm\")&\" - \"&TEXT(I18,\"h:mm\")","v":"13:35 - 13:35"},{"$f":"$C$7+J18","v":"13:35:00"},{"$f":"$C$7+K18","v":"13:35:00"},{"$f":"TEXT(E18/$C$10/24,\"h:mm\")","v":"0:00"},{"$f":"TEXT(E18/$C$11/24,\"h:mm\")","v":"0:00"}]
[null,"rovně"," Domašov crossroad",6.4,{"$f":"D19-2.6","v":3.8000000000000003},119.00000000000001,{"$f":"TEXT(H19,\"h:mm\")&\" - \"&TEXT(I19,\"h:mm\")","v":"13:40 - 13:41"},{"$f":"$C$7+J19","v":"13:40:00"},{"$f":"$C$7+K19","v":"13:41:00"},"0:05","0:06"]
[null,"slightly right. (po hlavní)","Bělá p.P. crossroad",8.4,5.8000000000000007,117.00000000000001,"13:43 - 13:44","13:43:00","13:44:00","0:08","0:09"]
["GPM","1010 m.n.m.",null,17.399999999999999,14.799999999999999,108.00000000000001,{"$f":"TEXT(H21,\"h:mm\")&\" - \"&TEXT(I21,\"h:mm\")","v":"13:56 - 13:58"},{"$f":"$C$7+J21","v":"13:56:00"},{"$f":"$C$7+K21","v":"13:58:00"},"0:21","0:23"]
[null,null,"KOUTY NAD DESNOU",26.2,23.599999999999998,99.200000000000017,"14:08 - 14:12","14:08:00","14:12:00","0:33","0:37"]
[null,"rovně","crossroad",27.3,24.7,98.100000000000009,"14:10 - 14:14","14:10:00","14:14:00","0:35","0:39"]
[null,null,"LOUČNÁ NAD DESNOU",27.6,25,97.800000000000011,"14:10 - 14:14","14:10:00","14:14:00","0:35","0:39"]
[null,"railway crossing",null,27.7,25.099999999999998,97.700000000000017,"14:10 - 14:14","14:10:00","14:14:00","0:35","0:39"]
[null,"rovně","crossroad",28.6,26,96.800000000000011,"14:12 - 14:16","14:12:00","14:16:00","0:37","0:41"]
[null,"rovně","crossroad",30.28,27.68,95.12,"14:14 - 14:18","14:14:00","14:18:00","0:39","0:43"]
[null,"rovně","Filipová crossroad",33.1,30.5,92.300000000000011,"14:18 - 14:23","14:18:00",{"$f":"$C$7+K28","v":"14:23:00"},"0:43","0:48"]
[null,"doleva","MARŠÍKOV crossroad",35.5,32.9,89.9,"14:22 - 14:26","14:22:00","14:26:00","0:47","0:51"]
[null,"rovně","Maršíkov",35.6,33,89.800000000000011,"14:22 - 14:27","14:22:00","14:27:00","0:47","0:52"]
[null,"rovně","Maršíkov",36.1,33.5,89.300000000000011,"14:22 - 14:27","14:22:00","14:27:00","0:47","0:52"]
[null,"doprava",null,36.299999999999997,33.699999999999996,89.100000000000023,"14:23 - 14:28","14:23:00","14:28:00","0:48","0:53"]
[null,"doleva","crossroad",36.4,33.799999999999997,89.000000000000014,"14:23 - 14:28","14:23:00","14:28:00","0:48","0:53"]
[null,"doprava","crossroad",36.6,34,88.800000000000011,"14:23 - 14:28","14:23:00","14:28:00","0:48","0:53"]
[null,"OSTŘE DOLEVA!","crossroad",37.6,35,87.800000000000011,"14:25 - 14:30","14:25:00","14:30:00","0:50","0:55"]
[null,"doprava","crossroad",38.5,35.9,86.9,"14:26 - 14:31","14:26:00","14:31:00","0:51","0:56"]
[null,null,"SOBOTÍN",38.799999999999997,36.199999999999996,86.600000000000023,"14:26 - 14:32","14:26:00","14:32:00","0:51","0:57"]
[null,"rovně","sobotín crossroad",39.1,36.5,86.300000000000011,"14:27 - 14:32","14:27:00","14:32:00","0:52","0:57"]
[null,"doprava","sobotín crosssroad",40.4,37.799999999999997,85.000000000000014,"14:29 - 14:34","14:29:00","14:34:00","0:54","0:59"]
[null,"doprava","crossroad",41,38.4,84.4,"14:29 - 14:35","14:29:00","14:35:00","0:54","1:00"]
[null,"doleva","crossroad",41.14,38.54,84.260000000000019,"14:30 - 14:35","14:30:00","14:35:00","0:55","1:00"]
[null,"rovně","crossroad",43.1,40.5,82.300000000000011,"14:32 - 14:38","14:32:00","14:38:00","0:57","1:03"]
[null,null,"SKŘÍTEK",52.8,50.199999999999996,72.600000000000023,"14:46 - 14:54","14:46:00","14:54:00","1:11","1:19"]
["GPM","891 m.n.m.",null,52.1,49.5,73.300000000000011,"14:45 - 14:53","14:45:00","14:53:00","1:10","1:18"]
[null,null,"STARÁ VES ŽĎÁRSKÝ POTOK",59.5,56.9,65.900000000000006,"14:56 - 15:04","14:56:00","15:04:00","1:21","1:29"]
[null,null,"STARÁ VES",62.1,59.5,63.300000000000011,"15:00 - 15:08","15:00:00","15:08:00","1:25","1:33"]
[null,null,"RÝMAŘOV JANOVICE",62.9,60.3,62.500000000000014,"15:01 - 15:10","15:01:00","15:10:00","1:26","1:35"]
[null,"doleva","st. Opavská crossroad",66.099999999999994,63.499999999999993,59.300000000000018,{"$f":"TEXT(H48,\"h:mm\")&\" - \"&TEXT(I48,\"h:mm\")","v":"15:05 - 15:15"},"15:05:00","15:15:00","1:30","1:40"]
[null,"rovně","crossroad",69.5,66.900000000000006,55.900000000000006,"15:10 - 15:20","15:10:00","15:20:00","1:35","1:45"]
[null,"rovně","DOLNÍ MORAVICE",71.8,69.2,53.600000000000009,"15:13 - 15:24","15:13:00","15:24:00","1:38","1:49"]
[null,"doleva","route 445 crossroad",73,70.400000000000006,{"$f":"$E$101-E51","v":52.400000000000006},"15:15 - 15:26","15:15:00","15:26:00",{"$f":"TEXT(E51/$C$10/24,\"h:mm\")","v":"1:40"},{"$f":"TEXT(E51/$C$11/24,\"h:mm\")","v":"1:51"}]
[null,"doprava","odbočka",73.599999999999994,71,51.800000000000011,"15:16 - 15:27","15:16:00","15:27:00","1:41","1:52","?"]
[null,"doprava","odbočka",75.900000000000006,73.300000000000011,49.5,"15:19 - 15:30","15:19:00","15:30:00","1:44","1:55"]
[null,"doprava","VÁCLAVOV U BRUNTÁLU crossroad",78.3,75.7,47.100000000000009,"15:23 - 15:34","15:23:00","15:34:00","1:48","1:59"]
[null,null,"MALÁ ŠTÁHLE",82.5,79.900000000000006,42.900000000000006,"15:29 - 15:41","15:29:00","15:41:00","1:54","2:06"]
[null,null,"RÝMAŘOV",87.5,84.9,37.900000000000006,"15:36 - 15:49","15:36:00","15:49:00","2:01","2:14"]
[null,"vlevo","crossroad st. Opavská",88.4,85.800000000000011,37,"15:37 - 15:50","15:37:00","15:50:00","2:02","2:15"]
[null,"rovně","crossroad",88.6,86,36.800000000000011,"15:37 - 15:50","15:37:00","15:50:00","2:02","2:15"]
[null,"rovně","st. Třída hrdinů",88.7,86.100000000000009,36.700000000000003,"15:38 - 15:50","15:38:00","15:50:00","2:03","2:15"]
["1. ROUND","vlevo a vpravo","náměstí Míru",89,86.4,36.400000000000006,"15:38 - 15:51","15:38:00","15:51:00","2:03","2:16"]
[null,"vlevo a hned vpravo","st. Jungmanova",89,86.4,36.400000000000006,"15:38 - 15:51","15:38:00","15:51:00","2:03","2:16"]
[null,"vlevo","st. Havlíčkova",89.1,86.5,36.300000000000011,"15:38 - 15:51","15:38:00","15:51:00","2:03","2:16"]
[null,"doprava","st. Sokolovská",90,87.4,35.400000000000006,"15:39 - 15:53","15:39:00","15:53:00","2:04","2:18"]
[null,"doprava","odbočka",90.21,87.61,35.190000000000012,"15:40 - 15:53","15:40:00","15:53:00","2:05","2:18"]
[null,"doleva","st. Rýmařovská",91.6,89,33.800000000000011,"15:42 - 15:55","15:42:00","15:55:00","2:07","2:20"]
[null,"doleva nahoru","st. Panská",91.75,89.15,33.650000000000006,"15:42 - 15:55","15:42:00","15:55:00","2:07","2:20"]
[null,"doprava","odbočka",92.85,90.25,32.550000000000011,"15:43 - 15:57","15:43:00","15:57:00","2:08","2:22"]
[null,"doleva","crossroad",94.3,91.7,31.100000000000009,"15:46 - 15:59","15:46:00","15:59:00","2:11","2:24"]
[null,null,"SKÁLY",96.18,{"$f":"D69-2.6","v":93.580000000000013},29.22,{"$f":"TEXT(H69,\"h:mm\")&\" - \"&TEXT(I69,\"h:mm\")","v":"15:48 - 16:02"},{"$f":"$C$7+J69","v":"15:48:00"},{"$f":"$C$7+K69","v":"16:02:00"},"2:13","2:27"]
[null,"doleva","crossroad",96.6,94,28.800000000000011,"15:49 - 16:03","15:49:00","16:03:00","2:14","2:28"]
[null,"doprava","RÝMAŘOV odbočka",99.3,96.7,26.100000000000009,"15:53 - 16:07","15:53:00","16:07:00","2:18","2:32"]
[null,"doleva","crossroad",100.7,98.100000000000009,24.700000000000003,"15:55 - 16:09","15:55:00","16:09:00","2:20","2:34"]
["SPRINT","průjezd clem",null,100.7,98.100000000000009,24.700000000000003,"15:55 - 16:09","15:55:00","16:09:00","2:20","2:34"]
["2. ROUND","vlevo a vpravo","náměstí Míru",101.1,98.5,24.300000000000011,"15:55 - 16:10","15:55:00","16:10:00","2:20","2:35"]
[null,"vlevo a hned vpravo","st. Jungmanova",101.2,98.600000000000009,24.200000000000003,"15:55 - 16:10","15:55:00","16:10:00","2:20","2:35"]
[null,"vlevo","st. Havlíčkova",101.2,98.600000000000009,24.200000000000003,"15:55 - 16:10","15:55:00","16:10:00","2:20","2:35"]
[null,"doprava","st. Sokolovská",102.1,99.5,23.300000000000011,"15:57 - 16:12","15:57:00","16:12:00","2:22","2:37"]
[null,"doprava","odbočka",102.3,99.7,23.100000000000009,"15:57 - 16:12","15:57:00","16:12:00","2:22","2:37"]
[null,"doleva","st. Rýmařovská",103.7,101.10000000000001,21.700000000000003,"15:59 - 16:14","15:59:00","16:14:00","2:24","2:39"]
[null,"doleva nahoru","st. Panská",103.9,101.30000000000001,21.5,"15:59 - 16:14","15:59:00","16:14:00","2:24","2:39"]
[null,"doprava","odbočka",105,102.4,20.400000000000006,"16:01 - 16:16","16:01:00","16:16:00","2:26","2:41"]
[null,"doleva","crossroad",106.4,103.80000000000001,19,"16:03 - 16:18","16:03:00","16:18:00","2:28","2:43"]
[null,null,"SKÁLY",108.3,105.7,17.100000000000009,"16:06 - 16:21","16:06:00","16:21:00","2:31","2:46"]
[null,"doleva","crossroad",108.7,106.10000000000001,{"$f":"$E$101-E84","v":16.700000000000003},"16:06 - 16:22","16:06:00","16:22:00",{"$f":"TEXT(E84/$C$10/24,\"h:mm\")","v":"2:31"},{"$f":"TEXT(E84/$C$11/24,\"h:mm\")","v":"2:47"}]
[null,"doprava","RÝMAŘOV odbočka",111.4,108.80000000000001,14,"16:10 - 16:26","16:10:00","16:26:00","2:35","2:51"]
[null,"doleva","crossroad",112.9,110.30000000000001,12.5,"16:12 - 16:29","16:12:00","16:29:00","2:37","2:54"]
["SPRINT","průjezd cílem",null,112.9,110.30000000000001,12.5,"16:12 - 16:29","16:12:00","16:29:00","2:37","2:54"]
["3. ROUND","vlevo a vpravo","náměstí míru",113.2,110.60000000000001,12.200000000000003,"16:13 - 16:29","16:13:00","16:29:00","2:38","2:54"]
[null,"vlevo a hned vpravo","st. Jungmanova",113.2,110.60000000000001,12.200000000000003,"16:13 - 16:29","16:13:00","16:29:00","2:38","2:54"]
[null,"vlevo","st. Havlíčkova",113.3,110.7,12.100000000000009,"16:13 - 16:29","16:13:00","16:29:00","2:38","2:54"]
[null,"doprava","st. Sokolovská",114.2,111.60000000000001,11.200000000000003,"16:14 - 16:31","16:14:00","16:31:00","2:39","2:56"]
[null,"doprava","odbočka",114.4,111.80000000000001,11,"16:14 - 16:31","16:14:00","16:31:00","2:39","2:56"]
[null,"doleva","st. Rýmařovská",115.8,113.2,9.6000000000000085,"16:16 - 16:33","16:16:00","16:33:00","2:41","2:58"]
[null,"doleva nahoru","st. Panská",116,113.4,9.4000000000000057,"16:17 - 16:34","16:17:00","16:34:00","2:42","2:59"]
[null,"doprava","odbočka",117.1,114.5,8.3000000000000114,"16:18 - 16:35","16:18:00","16:35:00","2:43","3:00"]
[null,"doleva","crossroad",118.5,115.9,6.9000000000000057,"16:20 - 16:38","16:20:00","16:38:00","2:45","3:03"]
[null,null,"SKÁLY",120.4,117.80000000000001,5,"16:23 - 16:41","16:23:00","16:41:00","2:48","3:06"]
[null,"doleva","crossroad",120.8,118.2,4.6000000000000085,"16:23 - 16:41","16:23:00","16:41:00","2:48","3:06"]
[null,"doprava","RÝMAŘOV odbočka",123.5,120.9,1.9000000000000057,"16:27 - 16:45","16:27:00","16:45:00","2:52","3:10"]
[null,"doleva","crossroad",123.8,121.2,1.6000000000000085,{"$f":"TEXT(H100,\"h:mm\")&\" - \"&TEXT(I100,\"h:mm\")","v":"16:28 - 16:46"},{"$f":"$C$7+J100","v":"16:28:00"},"16:46:00","2:53","3:11"]
["FINISH",null,"Rýmařov, Náměstí Míru",125.4,{"$f":"D101-2.6","v":122.80000000000001},0,{"$f":"TEXT(H101,\"h:mm\")&\" - \"&TEXT(I101,\"h:mm\")","v":"16:30 - 16:48"},"16:30:00","16:48:00","2:55","3:13"]

{"sheet":"02-Bruntál-Červenohorské sedlo","index":3,"n_rows":84,"n_cols":11,"rows_kept":84,"cut":false,"hidden":false,"merged":[]}
["Časový plán etapy: "]
[]
["2. etapa Bruntál – Červenohorské sedlo, 10.6.2023"]
[]
["čas startu etapy",null,"12:00:00"]
[]
["ostrý start hh:mm",null,"12:03:00"]
[]
["průměrné rychlosti (km/h)"]
["a",null,42]
["b",null,38]
[]
[null,"poznámka","místo","kilometr","ostrá etapa","kilometr do cíle","rozsah časů","čas absolutní a","čas absolutní b","čas relativní a","čas relativní b"]
[null,null,"ITINERÁŘ","(km)","(km)","(km)","(hh:mm - hh:mm)","(hh:mm)","(hh:mm)","(hh:mm)","(hh:mm)"]
["START","Slavnostní start","Bruntál, náměstí Míru",0,null,null,"12:00:00","12:00:00","12:00:00","00:00:00","00:00:00"]
[null,"rovně","st. Opletalova",0.1]
[null,"rovně","st. Revoluční",0.2]
[null,"doleva","st. Dukelská",0.4]
[null,"vpravo","st. Jesenická",1]
[null,"OSTRÝ START",null,2,{"$f":"D20-2","v":0},{"$f":"$E$84-E20","v":129},{"$f":"TEXT(H20,\"h:mm\")&\" - \"&TEXT(I20,\"h:mm\")","v":"12:03 - 12:03"},{"$f":"$C$7+J20","v":"12:03:00"},{"$f":"$C$7+K20","v":"12:03:00"},{"$f":"TEXT(E20/$C$10/24,\"h:mm\")","v":"0:00"},{"$f":"TEXT(E20/$C$11/24,\"h:mm\")","v":"0:00"}]
[null,null,"VÁCLAVOV U BRUNTÁLU",8,{"$f":"D21-2","v":6},123,{"$f":"TEXT(H21,\"h:mm\")&\" - \"&TEXT(I21,\"h:mm\")","v":"12:11 - 12:12"},{"$f":"$C$7+J21","v":"12:11:00"},{"$f":"$C$7+K21","v":"12:12:00"},{"$f":"TEXT(E21/$C$10/24,\"h:mm\")","v":"0:08"},{"$f":"TEXT(E21/$C$11/24,\"h:mm\")","v":"0:09"}]
[null,null,"MALÁ ŠTÁHLE",12.66,{"$f":"D22-2","v":10.66},118.34,"12:18 - 12:19","12:18:00","12:19:00","0:15","0:16"]
[null,null,"RÝMAŘOV",17.600000000000001,15.600000000000001,113.4,"12:25 - 12:27","12:25:00","12:27:00","0:22","0:24"]
[null,"vlevo","revolucni",18.46,16.46,112.53999999999999,"12:26 - 12:28","12:26:00","12:28:00","0:23","0:25"]
[null,"mírně doleva","route 445",18.8,16.8,112.2,"12:27 - 12:29","12:27:00","12:29:00","0:24","0:26"]
[null,"vlevo","třída Hrdinů",19.100000000000001,{"$f":"D26-2","v":17.100000000000001},111.9,"12:27 - 12:30","12:27:00","12:30:00","0:24","0:27"]
[null,"vpravo","st. Oktužní",19.3,17.3,111.7,"12:27 - 12:30","12:27:00","12:30:00","0:24","0:27"]
["SPRINT","vedle Lidlu",null,19.7,17.7,111.3,"12:28 - 12:30","12:28:00","12:30:00","0:25","0:27"]
[null,"vlevo","st. Hornoměstská",20.7,18.7,110.3,"12:29 - 12:32","12:29:00","12:32:00","0:26","0:29"]
[null,"rovně","crossroad",22.2,20.2,108.8,"12:31 - 12:34","12:31:00","12:34:00","0:28","0:31"]
[null,null,"SKÁLY",23.14,21.14,107.86,"12:33 - 12:36","12:33:00","12:36:00","0:30","0:33"]
[null,null,"TVRDKOV",27.5,25.5,103.5,"12:39 - 12:43","12:39:00","12:43:00","0:36","0:40"]
[null,"mírně vpravo","route 370 crossroad",31.7,29.7,99.3,"12:45 - 12:49","12:45:00","12:49:00","0:42","0:46"]
[null,"mírně vpravo","route 370 crossroad",34.9,32.9,96.1,"12:50 - 12:54","12:50:00","12:54:00","0:47","0:51"]
[null,"vpravo","route 37010 crossroad",35.700000000000003,33.700000000000003,95.3,"12:51 - 12:56","12:51:00","12:56:00","0:48","0:53"]
[null,null,"OSKAVA",36.9,34.9,94.1,"12:52 - 12:58","12:52:00","12:58:00","0:49","0:55"]
[null,"rovně","crossroad",39,37,92,"12:55 - 13:01","12:55:00","13:01:00","0:52","0:58"]
[null,"vlevo","route 44633 crossroad",40.799999999999997,38.799999999999997,90.2,"12:58 - 13:04","12:58:00","13:04:00","0:55","1:01"]
[null,null,"TŘEMŠEK",41.93,39.93,89.07,"13:00 - 13:06","13:00:00","13:06:00","0:57","1:03"]
[null,"vpravo","crossroad",43.3,41.3,87.7,"13:02 - 13:08","13:02:00","13:08:00","0:59","1:05"]
["GPM","556 m.n.m.",null,43.9,41.9,87.1,"13:02 - 13:09","13:02:00","13:09:00","0:59","1:06"]
[null,"vpravo","route 44631 crossroad",48.6,46.6,82.4,"13:09 - 13:16","13:09:00","13:16:00","1:06","1:13"]
[null,"doleva","odbočka",54,52,77,"13:17 - 13:25","13:17:00","13:25:00","1:14","1:22"]
[null,null,"NOVÝ MALÍN",54.4,52.4,76.599999999999994,"13:17 - 13:25","13:17:00","13:25:00","1:14","1:22"]
[null,"vpravo","route 44632 crossroad",56,54,75,"13:20 - 13:28","13:20:00","13:28:00","1:17","1:25"]
[null,"railway crossing",null,56.5,54.5,74.5,"13:20 - 13:29","13:20:00","13:29:00","1:17","1:26"]
[null,"vpravo","route 44638 crossroad",58.7,56.7,72.3,"13:24 - 13:32","13:24:00","13:32:00","1:21","1:29"]
[null,null,"KRÁSNÉ",60,58,71,"13:25 - 13:34","13:25:00","13:34:00","1:22","1:31"]
[null,null,"HRABĚŠICE",61.36,59.36,69.64,"13:27 - 13:36","13:27:00","13:36:00","1:24","1:33"]
[null,"vlevo","crossroad",61.7,59.7,69.3,"13:28 - 13:37","13:28:00","13:37:00","1:25","1:34"]
["GPM","616 m.n.m.",null,63.8,61.8,67.2,"13:31 - 13:40","13:31:00","13:40:00","1:28","1:37"]
[null,"vlevo","crossroad",65.11,63.11,{"$f":"$E$84-E52","v":65.89},"13:33 - 13:42","13:33:00","13:42:00","1:30","1:39"]
[null,"vlevo","route 11 crossroad",66.099999999999994,64.099999999999994,64.900000000000006,"13:34 - 13:44","13:34:00","13:44:00","1:31","1:41"]
[null,null,"SOBOTÍN",69,67,62,"13:38 - 13:48","13:38:00","13:48:00","1:35","1:45"]
[null,null,"petrov nad desnou",70.5,68.5,60.5,"13:40 - 13:51","13:40:00","13:51:00","1:37","1:48"]
[null,"vpravo","route 01122 crossroad",72.5,70.5,58.5,"13:43 - 13:54","13:43:00","13:54:00","1:40","1:51"]
[null,"rovně a vpravo smer jeseník","st. Jesenická",73.7,71.7,57.3,"13:45 - 13:56","13:45:00","13:56:00","1:42","1:53"]
[null,null,"VELKÉ LOSINY",75,73,56,"13:47 - 13:58","13:47:00","13:58:00","1:44","1:55"]
[null,"vlevo","st. Zámecká",75.400000000000006,73.400000000000006,55.599999999999994,"13:47 - 13:58","13:47:00","13:58:00","1:44","1:55"]
[null,"vpravo","st zamecka",76,74,55,"13:48 - 13:59","13:48:00","13:59:00","1:45","1:56"]
[null,"rovně","crossroad",77.400000000000006,75.400000000000006,53.599999999999994,"13:50 - 14:02","13:50:00","14:02:00","1:47","1:59"]
[null,null,"žárová",79.400000000000006,77.400000000000006,51.599999999999994,"13:53 - 14:05","13:53:00","14:05:00","1:50","2:02"]
[null,"doprava","crossroad",80.41,78.41,50.59,"13:55 - 14:06","13:55:00","14:06:00","1:52","2:03"]
[null,"doprava 2x","crossroad",81.8,79.8,49.2,"13:57 - 14:09","13:57:00","14:09:00","1:54","2:06"]
[null,"rovně","crossroad",83.7,81.7,47.3,"13:59 - 14:12","13:59:00","14:12:00","1:56","2:09"]
[null,null,"pusté žibřidovice",85,83,46,"14:01 - 14:14","14:01:00","14:14:00","1:58","2:11"]
[null,"vpravo","route 3697",85.8,83.8,45.2,"14:02 - 14:15","14:02:00","14:15:00","1:59","2:12"]
[null,"doprava po hlavni",null,86.7,84.7,44.3,"14:04 - 14:16","14:04:00","14:16:00","2:01","2:13"]
[null,null,"jindrichov",87.4,85.4,43.599999999999994,"14:05 - 14:17","14:05:00","14:17:00","2:02","2:14"]
[null,"vpravo","route 369 crossroad",87.5,85.5,43.5,"14:05 - 14:18","14:05:00","14:18:00","2:02","2:15"]
[null,null,"nove losiny",89.4,87.4,41.599999999999994,"14:07 - 14:21","14:07:00","14:21:00","2:04","2:18"]
[null,"vpravo","route 3696 trojkamen crossroad",90,88,41,"14:08 - 14:21","14:08:00","14:21:00","2:05","2:18"]
[null,null,"přemyslov",95,93,36,"14:15 - 14:29","14:15:00","14:29:00","2:12","2:26"]
[null,"vpravo","route 44 crossroad",99,97,32,"14:21 - 14:36","14:21:00","14:36:00","2:18","2:33"]
["SPRINT","Loučná n. Desnou",null,99.8,97.8,31.200000000000003,"14:22 - 14:37","14:22:00","14:37:00","2:19","2:34"]
[null,"vlevo","crossroad",100.2,98.2,30.799999999999997,"14:23 - 14:38","14:23:00","14:38:00","2:20","2:35"]
[null,"vlevo","crossroad",105.4,103.4,25.599999999999994,"14:30 - 14:46","14:30:00","14:46:00","2:27","2:43"]
[null,"vlevo",null,109.8,107.8,21.200000000000003,"14:37 - 14:53","14:37:00","14:53:00","2:34","2:50"]
["GPM","1177 m.n.m.",null,112.1,110.1,18.900000000000006,"14:40 - 14:56","14:40:00","14:56:00","2:37","2:53"]
[null,"vlevo","crossroad",112.2,110.2,18.799999999999997,"14:40 - 14:57","14:40:00","14:57:00","2:37","2:54"]
[null,"vlevo","crossroad",116.8,114.8,14.200000000000003,"14:47 - 15:04","14:47:00","15:04:00","2:44","3:01"]
[null,"rovně","crossroad",117.4,115.4,13.599999999999994,"14:47 - 15:05","14:47:00","15:05:00","2:44","3:02"]
[null,"vpravo","route 44 crossroad",123.2,121.2,7.7999999999999972,"14:56 - 15:14","14:56:00","15:14:00","2:53","3:11"]
["FINISH","1010 m.n.m.","ČERVENHORSKÉ SEDLO",131,129,{"$f":"$E$84-E84","v":0},{"$f":"TEXT(H84,\"h:mm\")&\" - \"&TEXT(I84,\"h:mm\")","v":"15:07 - 15:26"},{"$f":"$C$7+J84","v":"15:07:00"},{"$f":"$C$7+K84","v":"15:26:00"},{"$f":"TEXT(E84/$C$10/24,\"h:mm\")","v":"3:04"},{"$f":"TEXT(E84/$C$11/24,\"h:mm\")","v":"3:23"}]

{"sheet":"03-Jeseník-Jeseník","index":4,"n_rows":85,"n_cols":11,"rows_kept":85,"cut":false,"hidden":false,"merged":[[15,6,22,10],[52,0,53,0]]}
["Časový plán etapy: "]
[]
["3. etapa Jeseník – Jeseník, 11. 6. 2023"]
[]
["čas startu etapy"]
["slavnostní start",null,"11:00:00"]
["ostrý start hh:mm",null,"11:10:00"]
[]
["průměrné rychlosti (km/h)"]
["a",null,42]
["b",null,38]
[]
[null,"poznámka","místo","kilometr","ostrá etapa","kilometr do cíle","rozsah časů","čas absolutní a","čas absolutní b","čas relativní a","čas relativní b"]
[null,null,"ITINERÁŘ","(km)","(km)","(km)","(hh:mm - hh:mm)","(hh:mm)","(hh:mm)","(hh:mm)","(hh:mm)"]
["START","Slavnostní start","Jeseník, Masarykovo náměstí",null,null,null,"11:00:00","11:00:00","11:00:00","00:00:00","00:00:00"]
[null,"doleva","st. Gogolova",0.3]
[null,"vlevo","st. Lipovská",0.3]
[null,"vpravo","st. Dukelská",0.5]
[null,"vlevo","st. Dukelská",0.5]
[null,"vlevo horní cesta","st. Dukelská",0.6]
[null,"vlevo","st. Denisova",1.5]
[null,"doprava","U Bělidla",1.7]
[null,"vpravo","route 60 crossroad",1.9]
[null,"OSTRÝ START",null,2.8,{"$f":"D24-2.8","v":0},{"$f":"$E$85-E24","v":166.1},{"$f":"TEXT(H24,\"h:mm\")&\" - \"&TEXT(I24,\"h:mm\")","v":"11:10 - 11:10"},{"$f":"$C$7+J24","v":"11:10:00"},{"$f":"$C$7+K24","v":"11:10:00"},{"$f":"TEXT(E24/$C$10/24,\"hh:mm\")","v":"00:00"},{"$f":"TEXT(E24/$C$11/24,\"hh:mm\")","v":"00:00"}]
[null,"vpravo","route 60 crossroad",4.9000000000000004,{"$f":"D25-2.8","v":2.1000000000000005},164,"11:13 - 11:13","11:13:00","11:13:00","00:03","00:03"]
[null,"railway crossing","Vápenka Omya",{"$f":"E26+2.8","v":6.8999999999999995},4.0999999999999996,162,{"$f":"TEXT(H26,\"h:mm\")&\" - \"&TEXT(I26,\"h:mm\")","v":"11:15 - 11:16"},{"$f":"$C$7+J26","v":"11:15:00"},{"$f":"$C$7+K26","v":"11:16:00"},"00:05","00:06"]
[null,"vlevo","route 60 odbočka",{"$f":"E27+2.8","v":12.5},9.6999999999999993,156.4,"11:23 - 11:25","11:23:00","11:25:00","00:13","00:15"]
[null,"railway crossing","Vápenná",12.9,10.100000000000001,156,"11:24 - 11:25","11:24:00","11:25:00","00:14","00:15"]
[null,"railway crossing","Vápenná",14,11.2,154.9,{"$f":"TEXT(H29,\"h:mm\")&\" - \"&TEXT(I29,\"h:mm\")","v":"11:26 - 11:27"},{"$f":"$C$7+J29","v":"11:26:00"},{"$f":"$C$7+K29","v":"11:27:00"},"00:16","00:17"]
[null,"vpravo","Žulová",15.8,13,153.1,"11:28 - 11:30","11:28:00","11:30:00","00:18","00:20"]
[null,"rovně","Žulová crossroad",16.3,13.5,152.6,"11:29 - 11:31","11:29:00","11:31:00","00:19","00:21"]
[null,"ostře vpravo","Žulová crossroad",16.7,13.899999999999999,152.19999999999999,"11:29 - 11:31","11:29:00","11:31:00","00:19","00:21"]
[null,null,"BERGOV",{"$f":"E33+2.8","v":21.5},18.7,147.4,{"$f":"TEXT(H33,\"h:mm\")&\" - \"&TEXT(I33,\"h:mm\")","v":"11:36 - 11:39"},{"$f":"$C$7+J33","v":"11:36:00"},{"$f":"$C$7+K33","v":"11:39:00"},"00:26","00:29"]
[null,null,"VLČICE",{"$f":"E34+2.8","v":22.400000000000002},19.600000000000001,146.5,"11:38 - 11:40","11:38:00","11:40:00","00:28","00:30"]
[null,null,"UHELNÁ",{"$f":"E35+2.8","v":25.400000000000002},22.6,143.5,{"$f":"TEXT(H35,\"h:mm\")&\" - \"&TEXT(I35,\"h:mm\")","v":"11:42 - 11:45"},{"$f":"$C$7+J35","v":"11:42:00"},{"$f":"$C$7+K35","v":"11:45:00"},"00:32","00:35"]
[null,"vpravo","route 60 crossroad",25.7,22.9,143.19999999999999,"11:42 - 11:46","11:42:00","11:46:00","00:32","00:36"]
[null,null,"JAVORNÍK",28.7,25.9,140.19999999999999,"11:47 - 11:50","11:47:00","11:50:00","00:37","00:40"]
[null,"vpravo","Bernartická/route457 crossroad",29,26.2,139.9,"11:47 - 11:51","11:47:00","11:51:00","00:37","00:41"]
[null,null,"BERNARTICE",{"$f":"E39+2.8","v":33.4},30.6,135.5,{"$f":"TEXT(H39,\"h:mm\")&\" - \"&TEXT(I39,\"h:mm\")","v":"11:53 - 11:58"},{"$f":"$C$7+J39","v":"11:53:00"},{"$f":"$C$7+K39","v":"11:58:00"},"00:43","00:48"]
[null,"vpravo","457 route odbočka",33.9,31.1,135,"11:54 - 11:59","11:54:00","11:59:00","00:44","00:49"]
[null,"railway crossing","Horní Heřmanice",36.4,33.6,132.5,"11:58 - 12:03","11:58:00","12:03:00","00:48","00:53"]
[null,null,"HORNÍ HEŘMANICE",37,34.200000000000003,131.89999999999998,"11:58 - 12:04","11:58:00","12:04:00","00:48","00:54"]
[null,null,"VIDNAVA",42.199999999999996,39.4,126.69999999999999,"12:06 - 12:12","12:06:00","12:12:00","00:56","01:02"]
["SPRINT","Mírové náměstí",null,42.7,39.9,126.19999999999999,"12:07 - 12:13","12:07:00","12:13:00","00:57","01:03"]
[null,"doleva","route 457 crossroad",49.199999999999996,46.4,119.69999999999999,"12:16 - 12:23","12:16:00","12:23:00","01:06","01:13"]
[null,null,"VELKÉ KUNĚTICE",49.599999999999994,46.8,119.3,"12:16 - 12:23","12:16:00","12:23:00","01:06","01:13"]
[null,"doprava","route 457 crossroad",50.699999999999996,47.9,118.19999999999999,"12:18 - 12:25","12:18:00","12:25:00","01:08","01:15"]
[null,null,"TEREZÍN",53.3,50.5,115.6,"12:22 - 12:29","12:22:00","12:29:00","01:12","01:19"]
[null,"doprava","route 457 odbočka",53.699999999999996,50.9,115.19999999999999,{"$f":"TEXT(H49,\"h:mm\")&\" - \"&TEXT(I49,\"h:mm\")","v":"12:22 - 12:30"},{"$f":"$C$7+J49","v":"12:22:00"},{"$f":"$C$7+K49","v":"12:30:00"},"01:12","01:20"]
[null,null,"MIKULOVICE",{"$f":"E50+2.8","v":56.199999999999996},53.4,112.69999999999999,"12:26 - 12:34","12:26:00","12:34:00","01:16","01:24"]
[null,"doleva","st. Nádražní",56.3,53.5,112.6,"12:26 - 12:34","12:26:00","12:34:00","01:16","01:24"]
[null,"doprava","Šíroký Brod/route 44 crossroad",56.5,53.7,112.39999999999999,"12:26 - 12:34","12:26:00","12:34:00","01:16","01:24"]
["otočka o 180","doleva","crossroad",63.8,61,105.1,"12:37 - 12:46","12:37:00","12:46:00","01:27","01:36"]
[null,"doleva","crossroad",63.9,61.1,105,"12:37 - 12:46","12:37:00","12:46:00","01:27","01:36"]
[null,"doprava","crossroad",63.9,61.6,104.5,{"$f":"TEXT(H55,\"h:mm\")&\" - \"&TEXT(I55,\"h:mm\")","v":"12:38 - 12:47"},{"$f":"$C$7+J55","v":"12:38:00"},{"$f":"$C$7+K55","v":"12:47:00"},{"$f":"TEXT(E55/$C$10/24,\"hh:mm\")","v":"01:28"},{"$f":"TEXT(E55/$C$11/24,\"hh:mm\")","v":"01:37"}]
[null,"doleva","crossroad",67.400000000000006,64.600000000000009,{"$f":"$E$85-E56","v":101.49999999999999},"12:42 - 12:52","12:42:00","12:52:00",{"$f":"TEXT(E56/$C$10/24,\"hh:mm\")","v":"01:32"},{"$f":"TEXT(E56/$C$11/24,\"hh:mm\")","v":"01:42"}]
["GPM","806 m.n.m.","rejvíz",71.2,68.400000000000006,97.699999999999989,"12:47 - 12:58","12:47:00","12:58:00",{"$f":"TEXT(E57/$C$10/24,\"hh:mm\")","v":"01:37"},{"$f":"TEXT(E57/$C$11/24,\"hh:mm\")","v":"01:48"}]
[null,"vlevo","route 453 crossroad",71.2,68.400000000000006,97.699999999999989,"12:47 - 12:58","12:47:00","12:58:00",{"$f":"TEXT(E58/$C$10/24,\"hh:mm\")","v":"01:37"},{"$f":"TEXT(E58/$C$11/24,\"hh:mm\")","v":"01:48"}]
[null,null,"REJVÍZ",71.7,68.900000000000006,97.199999999999989,"12:48 - 12:58","12:48:00","12:58:00",{"$f":"TEXT(E59/$C$10/24,\"hh:mm\")","v":"01:38"},{"$f":"TEXT(E59/$C$11/24,\"hh:mm\")","v":"01:48"}]
[null,"ostře vpravo!","crossroad",75,{"$f":"D60-2.8","v":72.2},93.899999999999991,{"$f":"TEXT(H60,\"h:mm\")&\" - \"&TEXT(I60,\"h:mm\")","v":"12:53 - 13:04"},{"$f":"$C$7+J60","v":"12:53:00"},{"$f":"$C$7+K60","v":"13:04:00"},{"$f":"TEXT(E60/$C$10/24,\"hh:mm\")","v":"01:43"},{"$f":"TEXT(E60/$C$11/24,\"hh:mm\")","v":"01:54"}]
[null,null,"ZLATÉ HORY DOLNÍ ÚDOLÍ",76.7,73.900000000000006,92.199999999999989,"12:55 - 13:06","12:55:00","13:06:00","01:45","01:56"]
[null,"vpravo","route 453 crossroad",77,74.2,91.899999999999991,"12:56 - 13:07","12:56:00","13:07:00","01:46","01:57"]
[null,null,"HORNÍ ÚDOLÍ",78.8,76,90.1,"12:58 - 13:10","12:58:00","13:10:00","01:48","02:00"]
[null,"vpravo","route 452 crossroad",95.4,92.600000000000009,73.499999999999986,"13:22 - 13:36","13:22:00","13:36:00",{"$f":"TEXT(E64/$C$10/24,\"hh:mm\")","v":"02:12"},{"$f":"TEXT(E64/$C$11/24,\"hh:mm\")","v":"02:26"}]
["GPM","656 m.n.m.","Jelení",97.6,94.8,71.3,"13:25 - 13:39","13:25:00","13:39:00","02:15","02:29"]
[null,"vlevo","route 451 crossroad",104.8,102,64.099999999999994,"13:35 - 13:51","13:35:00","13:51:00","02:25","02:41"]
[null,"vpravo","route 4526 crossroad",111.3,108.5,57.599999999999994,"13:45 - 14:01","13:45:00","14:01:00","02:35","02:51"]
[null,"vpravo","route 4525",114,111.2,54.899999999999991,"13:48 - 14:05","13:48:00","14:05:00","02:38","02:55"]
["GPM","665 m.n.m.","kostelní vrch",118.4,115.60000000000001,50.499999999999986,"13:55 - 14:12","13:55:00","14:12:00","02:45","03:02"]
[null,"vlevo","route 4525 crossroad",120.3,117.5,48.599999999999994,"13:57 - 14:15","13:57:00","14:15:00","02:47","03:05"]
[null,"ostře vpravo","route 4525 crossroad #2",120.6,117.8,48.3,"13:58 - 14:16","13:58:00","14:16:00","02:48","03:06"]
[null,"vlevo","route 452",120.6,117.8,48.3,"13:58 - 14:16","13:58:00","14:16:00","02:48","03:06"]
[null,"ostře vpravo","route 450 crossroad",126,123.2,42.899999999999991,"14:06 - 14:24","14:06:00","14:24:00","02:56","03:14"]
[null,"rovně","route 44515",129.9,127.10000000000001,38.999999999999986,"14:11 - 14:30","14:11:00","14:30:00","03:01","03:20"]
[null,"vpravo","route 445 crossroad",136.30000000000001,133.5,32.599999999999994,"14:20 - 14:40","14:20:00","14:40:00","03:10","03:30"]
["SPRINT","route 485",null,137.4,134.6,31.5,"14:22 - 14:42","14:22:00","14:42:00","03:12","03:32"]
[null,"rovně","crossroad",142.5,139.69999999999999,26.400000000000006,"14:29 - 14:50","14:29:00","14:50:00","03:19","03:40"]
[null,"rovně","KARLOVA STUDÁNKA crossroad",143.4,140.6,25.5,"14:30 - 14:52","14:30:00","14:52:00","03:20","03:42"]
["GPM","1009 m.n.m.","Lyra",146.5,143.69999999999999,22.400000000000006,"14:35 - 14:56","14:35:00","14:56:00","03:25","03:46"]
[null,"vlevo","route 450 crossroad",150.1,147.29999999999998,18.800000000000011,"14:40 - 15:02","14:40:00","15:02:00","03:30","03:52"]
[null,"vpravo","route 44 crossroad",160.69999999999999,157.89999999999998,8.2000000000000171,"14:55 - 15:19","14:55:00","15:19:00","03:45","04:09"]
[null,"rovně","crossroad",166.5,163.69999999999999,2.4000000000000057,"15:03 - 15:28","15:03:00","15:28:00","03:53","04:18"]
[null,"rovně","st. Smetanova",167.8,165,1.0999999999999943,"15:05 - 15:30","15:05:00","15:30:00","03:55","04:20"]
[null,"3. výjezdem vlevo","roundabout",168.7,165.89999999999998,0.20000000000001705,"15:07 - 15:31","15:07:00","15:31:00","03:57","04:21"]
["FINISH",null,"Masarykovo nám. ",168.9,166.1,0,"145:08 - 15:33","15:08:00","15:33:00","03:57","04:22"]